{
 "currentVersion": 10.9,
 "serviceDescription": "Monitoring zameraný hlavne na tzv. geologické hazardy, t. j. škodlivé prírodné alebo antropogénne geologické procesy, ktoré ohrozujú prírodné prostredie, a v konečnom dôsledku aj človeka.",
 "mapName": "Layers",
 "description": "",
 "copyrightText": "Služba je verejnosti prístupná bezplatne. Využitie údajov sprístupnených službou predpokladá začlenenie ochranných znakov (copyright ŠGÚDŠ).",
 "supportsDynamicLayers": true,
 "layers": [
  {
   "id": 0,
   "name": "Lokallity",
   "parentLayerId": -1,
   "defaultVisibility": true,
   "subLayerIds": null,
   "minScale": 0,
   "maxScale": 0,
   "type": "Feature Layer",
   "geometryType": "esriGeometryPoint"
  }
 ],
 "tables": [
  {
   "id": 1,
   "name": "GEOIS.TBL_ZOSUVY_GEODEZIA",
   "type": "Table"
  },
  {
   "id": 2,
   "name": "GEOIS.TBL_ZOSUVY_HPV",
   "type": "Table"
  },
  {
   "id": 3,
   "name": "GEOIS.TBL_ZOSUVY_INC",
   "type": "Table"
  },
  {
   "id": 4,
   "name": "GEOIS.TBL_ZOSUVY_PEE",
   "type": "Table"
  },
  {
   "id": 5,
   "name": "GEOIS.ASpochovane",
   "type": "Table"
  },
  {
   "id": 6,
   "name": "GEOIS.TBL_RS",
   "type": "Table"
  },
  {
   "id": 7,
   "name": "GEOIS.TBL_SNEHY",
   "type": "Table"
  },
  {
   "id": 8,
   "name": "GEOIS.RizikovostM",
   "type": "Table"
  },
  {
   "id": 9,
   "name": "GEOIS.LokalitaM",
   "type": "Table"
  },
  {
   "id": 10,
   "name": "GEOIS.MonitoringM",
   "type": "Table"
  },
  {
   "id": 11,
   "name": "GEOIS.MonitorovacieMiestaM",
   "type": "Table"
  }
 ],
 "spatialReference": {
  "wkid": 102067,
  "latestWkid": 5514
 },
 "singleFusedMapCache": true,
 "tileInfo": {
  "rows": 256,
  "cols": 256,
  "dpi": 96,
  "format": "PNG",
  "compressionQuality": 75,
  "origin": {
   "x": -33699800,
   "y": 33699800
  },
  "spatialReference": {
   "wkid": 102067,
   "latestWkid": 5514
  },
  "lods": [
   {
    "level": 0,
    "resolution": 1058.3354500042335,
    "scale": 4000000
   },
   {
    "level": 1,
    "resolution": 529.1677250021168,
    "scale": 2000000
   },
   {
    "level": 2,
    "resolution": 396.87579375158754,
    "scale": 1500000
   },
   {
    "level": 3,
    "resolution": 264.5838625010584,
    "scale": 1000000
   },
   {
    "level": 4,
    "resolution": 132.2919312505292,
    "scale": 500000
   },
   {
    "level": 5,
    "resolution": 52.91677250021167,
    "scale": 200000
   },
   {
    "level": 6,
    "resolution": 26.458386250105836,
    "scale": 100000
   },
   {
    "level": 7,
    "resolution": 19.843789687579378,
    "scale": 75000
   },
   {
    "level": 8,
    "resolution": 13.229193125052918,
    "scale": 50000
   }
  ]
 },
 "initialExtent": {
  "xmin": -607605.9487800001,
  "ymin": -1316856.1009488627,
  "xmax": -162349.07561999946,
  "ymax": -1094696.8496935833,
  "spatialReference": {
   "wkid": 102067,
   "latestWkid": 5514
  }
 },
 "fullExtent": {
  "xmin": -587367,
  "ymin": -1333926.8599999994,
  "xmax": -182588.02439999953,
  "ymax": -1148942.2600000016,
  "spatialReference": {
   "wkid": 102067,
   "latestWkid": 5514
  }
 },
 "minScale": 2311162.217155,
 "maxScale": 4513.988705,
 "minLOD": 1,
 "maxLOD": 8,
 "units": "esriMeters",
 "supportedImageFormatTypes": "PNG32,PNG24,PNG,JPG,DIB,TIFF,EMF,PS,PDF,GIF,SVG,SVGZ,BMP",
 "documentInfo": {
  "Title": "Čiastkový monitorovací systém - Geologické faktory",
  "Author": "Miroslav Antalík",
  "Comments": "Monitoring zameraný hlavne na tzv. geologické hazardy, t. j. škodlivé prírodné alebo antropogénne geologické procesy, ktoré ohrozujú prírodné prostredie, a v konečnom dôsledku aj človeka.",
  "Subject": "Sieťové služby podľa zákon č. 3/2009 Z.z. o národnej infraštruktúre pre priestorové informácie.",
  "Category": "",
  "AntialiasingMode": "None",
  "TextAntialiasingMode": "Force",
  "Keywords": "geology,geológia"
 },
 "capabilities": "Map,Query,Data",
 "supportedQueryFormats": "JSON, geoJSON",
 "exportTilesAllowed": false,
 "referenceScale": 0,
 "datumTransformations": [
  {
   "geoTransforms": [
    {
     "wkid": 108001,
     "latestWkid": 1241,
     "transformForward": true,
     "name": "NAD_1927_To_NAD_1983_NADCON"
    }
   ]
  },
  {
   "geoTransforms": [
    {
     "wkid": 108001,
     "latestWkid": 1241,
     "transformForward": false,
     "name": "NAD_1927_To_NAD_1983_NADCON"
    }
   ]
  }
 ],
 "supportsDatumTransformation": true,
 "maxRecordCount": 1000,
 "maxImageHeight": 4096,
 "maxImageWidth": 4096,
 "supportedExtensions": "",
 "resampling": false,
 "serviceItemId": "90c898fb5aee433bb94a6b677dde5e97"
}
